BEGIN:VCALENDAR
VERSION:2.0
PRODID:-//Senator Lindsey Williams - ECPv6.15.20//NONSGML v1.0//EN
CALSCALE:GREGORIAN
METHOD:PUBLISH
X-WR-CALNAME:Senator Lindsey Williams
X-ORIGINAL-URL:https://senatorlindseywilliams.com
X-WR-CALDESC:Events for Senator Lindsey Williams
REFRESH-INTERVAL;VALUE=DURATION:PT1H
X-Robots-Tag:noindex
X-PUBLISHED-TTL:PT1H
BEGIN:VTIMEZONE
TZID:America/New_York
BEGIN:DAYLIGHT
TZOFFSETFROM:-0500
TZOFFSETTO:-0400
TZNAME:EDT
DTSTART:20250309T070000
END:DAYLIGHT
BEGIN:STANDARD
TZOFFSETFROM:-0400
TZOFFSETTO:-0500
TZNAME:EST
DTSTART:20251102T060000
END:STANDARD
BEGIN:DAYLIGHT
TZOFFSETFROM:-0500
TZOFFSETTO:-0400
TZNAME:EDT
DTSTART:20260308T070000
END:DAYLIGHT
BEGIN:STANDARD
TZOFFSETFROM:-0400
TZOFFSETTO:-0500
TZNAME:EST
DTSTART:20261101T060000
END:STANDARD
BEGIN:DAYLIGHT
TZOFFSETFROM:-0500
TZOFFSETTO:-0400
TZNAME:EDT
DTSTART:20270314T070000
END:DAYLIGHT
BEGIN:STANDARD
TZOFFSETFROM:-0400
TZOFFSETTO:-0500
TZNAME:EST
DTSTART:20271107T060000
END:STANDARD
END:VTIMEZONE
BEGIN:VEVENT
DTSTART;TZID=America/New_York:20260528T160000
DTEND;TZID=America/New_York:20260528T180000
DTSTAMP:20260421T220805
CREATED:20260305T173218Z
LAST-MODIFIED:20260305T173218Z
UID:148471-1779984000-1779991200@senatorlindseywilliams.com
SUMMARY:Summer Kick Off Pool Party
DESCRIPTION:
URL:https://senatorlindseywilliams.com/event/summer-kick-off-pool-party/
LOCATION:The Kingsley Association\, 6435 Frankstown Avenue\, Pittsburgh\, PA\, 15206\, United States
END:VEVENT
END:VCALENDAR